BEGIN:VCALENDAR
VERSION:2.0
PRODID:icalendar-ruby
CALSCALE:GREGORIAN
METHOD:PUBLISH
BEGIN:VEVENT
DTSTAMP:20260425T135745Z
UID:18-408999@euharleechurch.org
DTSTART:20260601T220000Z
DTEND:20260605T000000Z
CLASS:PUBLIC
CREATED:20260424T092511
DESCRIPTION:\nWe hope that you'll join us this summer for KidVenture June 1
 -4 from 6-8PM! We will be hosting at Woodland Middle for kids completed Pr
 e-K-5th! Use the link below to sign up for this event\, by May 28th.\n
LAST-MODIFIED:20260424T092511
LOCATION:Woodland Middle
SUMMARY:KidVenture
URL;VALUE=URI:https://www.euharleechurch.org/events/kidventure/2026-06-01
ATTACH;FILENAME=Euharlee20Baptist2020Woodland20Middle.png;FMTTYPE=image/png
 :https://dq5pwpg1q8ru0.cloudfront.net/2026/04/24/13/25/10/caf96e86-be33-44
 5e-8618-7a2cc8bc9ad9/Euharlee20Baptist2020Woodland20Middle.png
END:VEVENT
END:VCALENDAR
